BEGIN:VCALENDAR
VERSION:2.0
PRODID:-//ΤμΜΧΠΠΑ-ΠΘ - ECPv6.2.4//NONSGML v1.0//EN
CALSCALE:GREGORIAN
METHOD:PUBLISH
X-WR-CALNAME:ΤμΜΧΠΠΑ-ΠΘ
X-ORIGINAL-URL:https://www.prd.uth.gr
X-WR-CALDESC:Events for ΤμΜΧΠΠΑ-ΠΘ
REFRESH-INTERVAL;VALUE=DURATION:PT1H
X-Robots-Tag:noindex
X-PUBLISHED-TTL:PT1H
BEGIN:VTIMEZONE
TZID:Europe/Athens
BEGIN:DAYLIGHT
TZOFFSETFROM:+0200
TZOFFSETTO:+0300
TZNAME:EEST
DTSTART:20260329T010000
END:DAYLIGHT
BEGIN:STANDARD
TZOFFSETFROM:+0300
TZOFFSETTO:+0200
TZNAME:EET
DTSTART:20261025T010000
END:STANDARD
END:VTIMEZONE
BEGIN:VEVENT
DTSTART;VALUE=DATE:20260209
DTEND;VALUE=DATE:20260530
DTSTAMP:20260423T010245
CREATED:20250901T114335Z
LAST-MODIFIED:20260304T123700Z
UID:20442-1770595200-1780099199@www.prd.uth.gr
SUMMARY:ΠΠΣ – Εαρινό εξάμηνο ακαδ. έτος 2025-26
DESCRIPTION:ανακοίνωση
URL:https://www.prd.uth.gr/cal/%cf%80%cf%80%cf%83-%ce%b5%ce%b1%cf%81%ce%b9%ce%bd%cf%8c-%ce%b5%ce%be%ce%ac%ce%bc%ce%b7%ce%bd%ce%bf-25-26/
CATEGORIES:Ακαδημαϊκό εξάμηνο
END:VEVENT
BEGIN:VEVENT
DTSTART;VALUE=DATE:20260608
DTEND;VALUE=DATE:20260627
DTSTAMP:20260423T010245
CREATED:20250901T120542Z
LAST-MODIFIED:20250901T120542Z
UID:20448-1780876800-1782518399@www.prd.uth.gr
SUMMARY:ΠΠΣ – Εξεταστική Περίοδος\, Ιούνιος 2026
DESCRIPTION:
URL:https://www.prd.uth.gr/cal/%cf%80%cf%80%cf%83-%ce%b5%ce%be%ce%b5%cf%84%ce%b1%cf%83%cf%84%ce%b9%ce%ba%ce%ae-%cf%80%ce%b5%cf%81%ce%af%ce%bf%ce%b4%ce%bf%cf%82-06-25-26/
CATEGORIES:Εξεταστική περίοδος
END:VEVENT
BEGIN:VEVENT
DTSTART;VALUE=DATE:20260629
DTEND;VALUE=DATE:20260704
DTSTAMP:20260423T010245
CREATED:20250901T120842Z
LAST-MODIFIED:20250901T120842Z
UID:20452-1782691200-1783123199@www.prd.uth.gr
SUMMARY:ΠΠΣ – Παρουσιάσεις Διπλωματικών Εργασιών\, Ιούνιος-Ιούλιος 2026
DESCRIPTION:
URL:https://www.prd.uth.gr/cal/%cf%80%cf%80%cf%83-%cf%80%ce%b1%cf%81%ce%bf%cf%85%cf%83%ce%b9%ce%ac%cf%83%ce%b5%ce%b9%cf%82-%ce%b4%ce%b9%cf%80%ce%bb-06-25-26/
CATEGORIES:Εξεταστική περίοδος
END:VEVENT
BEGIN:VEVENT
DTSTART;VALUE=DATE:20260715
DTEND;VALUE=DATE:20260731
DTSTAMP:20260423T010245
CREATED:20250901T120715Z
LAST-MODIFIED:20250901T120715Z
UID:20450-1784073600-1785455999@www.prd.uth.gr
SUMMARY:ΠΠΣ & ΠΜΣ – Ορκωμοσία αποφοίτων\, Ιούλιος 2026
DESCRIPTION:
URL:https://www.prd.uth.gr/cal/%cf%80%cf%80%cf%83-%cf%80%ce%bc%cf%83-%cf%80%ce%b5%cf%81%ce%af%ce%bf%ce%b4%ce%bf%cf%82-%ce%bf%cf%81%ce%ba%cf%89%ce%bc%ce%bf%cf%83%ce%b9%cf%8e%ce%bd-07-26/
CATEGORIES:Εκδηλώσεις
END:VEVENT
BEGIN:VEVENT
DTSTART;VALUE=DATE:20260831
DTEND;VALUE=DATE:20260919
DTSTAMP:20260423T010245
CREATED:20250901T113149Z
LAST-MODIFIED:20250901T113149Z
UID:20428-1788134400-1789775999@www.prd.uth.gr
SUMMARY:ΠΠΣ – Εξεταστική Περίοδος\, Σεπτέμβριος 2026
DESCRIPTION:
URL:https://www.prd.uth.gr/cal/%cf%80%cf%80%cf%83-%ce%b5%ce%be%ce%b5%cf%84%ce%b1%cf%83%cf%84%ce%b9%ce%ba%ce%ae-%cf%80%ce%b5%cf%81%ce%af%ce%bf%ce%b4%ce%bf%cf%82-09-25-26/
CATEGORIES:Εξεταστική περίοδος
END:VEVENT
END:VCALENDAR